BEGIN:VCALENDAR
VERSION:2.0
PRODID:-//ICFAL - ECPv5.3.1.1//NONSGML v1.0//EN
CALSCALE:GREGORIAN
METHOD:PUBLISH
X-WR-CALNAME:ICFAL
X-ORIGINAL-URL:https://icfal.uh1.ac.ma
X-WR-CALDESC:Events for ICFAL
BEGIN:VTIMEZONE
TZID:Europe/Paris
BEGIN:DAYLIGHT
TZOFFSETFROM:+0100
TZOFFSETTO:+0200
TZNAME:CEST
DTSTART:20210328T010000
END:DAYLIGHT
BEGIN:STANDARD
TZOFFSETFROM:+0200
TZOFFSETTO:+0100
TZNAME:CET
DTSTART:20211031T010000
END:STANDARD
END:VTIMEZONE
BEGIN:VEVENT
DTSTART;TZID=Europe/Paris:20210105T080000
DTEND;TZID=Europe/Paris:20210105T170000
DTSTAMP:20260421T164210
CREATED:20211224T111632Z
LAST-MODIFIED:20211224T111632Z
UID:546-1609833600-1609866000@icfal.uh1.ac.ma
SUMMARY:Réunion de préparation du Kick off \, via Zoom
DESCRIPTION:
URL:https://icfal.uh1.ac.ma/?tribe_events=reunion-de-preparation-du-kick-off-via-zoom
END:VEVENT
END:VCALENDAR