BEGIN:VCALENDAR
VERSION:2.0
PRODID:-//ICFAL - ECPv5.3.1.1//NONSGML v1.0//EN
CALSCALE:GREGORIAN
METHOD:PUBLISH
X-WR-CALNAME:ICFAL
X-ORIGINAL-URL:https://icfal.uh1.ac.ma
X-WR-CALDESC:Events for ICFAL
BEGIN:VTIMEZONE
TZID:Europe/Paris
BEGIN:DAYLIGHT
TZOFFSETFROM:+0100
TZOFFSETTO:+0200
TZNAME:CEST
DTSTART:20210328T010000
END:DAYLIGHT
BEGIN:STANDARD
TZOFFSETFROM:+0200
TZOFFSETTO:+0100
TZNAME:CET
DTSTART:20211031T010000
END:STANDARD
BEGIN:DAYLIGHT
TZOFFSETFROM:+0100
TZOFFSETTO:+0200
TZNAME:CEST
DTSTART:20220327T010000
END:DAYLIGHT
BEGIN:STANDARD
TZOFFSETFROM:+0200
TZOFFSETTO:+0100
TZNAME:CET
DTSTART:20221030T010000
END:STANDARD
BEGIN:DAYLIGHT
TZOFFSETFROM:+0100
TZOFFSETTO:+0200
TZNAME:CEST
DTSTART:20230326T010000
END:DAYLIGHT
BEGIN:STANDARD
TZOFFSETFROM:+0200
TZOFFSETTO:+0100
TZNAME:CET
DTSTART:20231029T010000
END:STANDARD
BEGIN:DAYLIGHT
TZOFFSETFROM:+0100
TZOFFSETTO:+0200
TZNAME:CEST
DTSTART:20240331T010000
END:DAYLIGHT
BEGIN:STANDARD
TZOFFSETFROM:+0200
TZOFFSETTO:+0100
TZNAME:CET
DTSTART:20241027T010000
END:STANDARD
END:VTIMEZONE
BEGIN:VEVENT
DTSTART;VALUE=DATE:20241202
DTEND;VALUE=DATE:20241215
DTSTAMP:20260421T152323
CREATED:20241119T095806Z
LAST-MODIFIED:20241119T095806Z
UID:1297-1733097600-1734220799@icfal.uh1.ac.ma
SUMMARY:Focus groupe à distance avec les partenaires ICFAL ( Suivi financier et administratif)
DESCRIPTION:Programmation des réunions Via Google-Meet pour chaque partenaire du projet  :\n– la révision des livrables selon les recommandations NEO Morocco_ Feedback de la réunion de suivi du projet ICFAL(Date : 02 Avril 2024 (en ligne)\n– la liquidation des dossiers financiers et pièces justificatives.\n– Elaboration du Rapport financier
URL:https://icfal.uh1.ac.ma/?tribe_events=focus-groupe-a-distance-avec-les-partenaires-icfal-suivi-financier-et-administratif
END:VEVENT
BEGIN:VEVENT
DTSTART;VALUE=DATE:20240923
DTEND;VALUE=DATE:20240928
DTSTAMP:20260421T152323
CREATED:20241030T150827Z
LAST-MODIFIED:20241030T150827Z
UID:1287-1727049600-1727481599@icfal.uh1.ac.ma
SUMMARY:Congrès de clôture Projet Erasmus+ ICFAL - du 23 au 27 Septembre 2024 à la FST - Al Hoceima Université Abdelmalek Essaadi de Tétouan
DESCRIPTION:Congrès de clôture Projet Erasmus+ ICFAL – du 23 au 27 Septembre 2024 à la FST – Al Hoceima Université Abdelmalek Essaadi de Tétouan
URL:https://icfal.uh1.ac.ma/?tribe_events=congres-de-cloture-projet-erasmus-icfal-du-23-au-27-septembre-2024-a-la-fst-al-hoceima-universite-abdelmalek-essaadi-de-tetouan
LOCATION:Al Hoceima\, Morocco
ATTACH;FMTTYPE=image/jpeg:https://icfal.uh1.ac.ma/wp-content/uploads/2024/10/WhatsApp-Image-2024-10-30-at-15.02.43.jpeg
END:VEVENT
BEGIN:VEVENT
DTSTART;VALUE=DATE:20240922
DTEND;VALUE=DATE:20240925
DTSTAMP:20260421T152323
CREATED:20240401T102817Z
LAST-MODIFIED:20240611T110716Z
UID:1238-1726963200-1727222399@icfal.uh1.ac.ma
SUMMARY:Evaluation externe – CFA de l’Université Abdelmalek Essaâdi
DESCRIPTION:
URL:https://icfal.uh1.ac.ma/?tribe_events=evaluation-externe-cfa-de-luniversite-abdelmalek-essaadi
END:VEVENT
BEGIN:VEVENT
DTSTART;VALUE=DATE:20240704
DTEND;VALUE=DATE:20240707
DTSTAMP:20260421T152323
CREATED:20240611T110408Z
LAST-MODIFIED:20240611T110408Z
UID:1247-1720051200-1720310399@icfal.uh1.ac.ma
SUMMARY:Evaluation externe CFA de l'université Sultane Moulay Sliman de Béni Mellal
DESCRIPTION:
URL:https://icfal.uh1.ac.ma/?tribe_events=evaluation-externe-cfa-de-luniversite-sultane-moulay-sliman-de-beni-mellal
END:VEVENT
BEGIN:VEVENT
DTSTART;VALUE=DATE:20240609
DTEND;VALUE=DATE:20240613
DTSTAMP:20260421T152323
CREATED:20240401T102321Z
LAST-MODIFIED:20240516T095845Z
UID:1234-1717891200-1718236799@icfal.uh1.ac.ma
SUMMARY:Evaluation externe - CFA de l'Université Sidi Mohamed ben Abdellah
DESCRIPTION:
URL:https://icfal.uh1.ac.ma/?tribe_events=evaluation-externe-cfa-de-luniversite-sidi-mohamed-ben-abdellah
END:VEVENT
BEGIN:VEVENT
DTSTART;VALUE=DATE:20240603
DTEND;VALUE=DATE:20240608
DTSTAMP:20260421T152323
CREATED:20240401T102617Z
LAST-MODIFIED:20240516T100013Z
UID:1236-1717372800-1717804799@icfal.uh1.ac.ma
SUMMARY:Evaluation externe – CFA de l’Université Sultan Moulay Slimane
DESCRIPTION:
URL:https://icfal.uh1.ac.ma/?tribe_events=evaluation-externe-cfa-de-luniversite-sultan-moulay-slimane
END:VEVENT
BEGIN:VEVENT
DTSTART;VALUE=DATE:20240430
DTEND;VALUE=DATE:20240501
DTSTAMP:20260421T152323
CREATED:20240401T102030Z
LAST-MODIFIED:20240516T095725Z
UID:1232-1714435200-1714521599@icfal.uh1.ac.ma
SUMMARY:Evaluation externe - CFA de l'Université Chouaib Doukkali
DESCRIPTION:
URL:https://icfal.uh1.ac.ma/?tribe_events=evaluation-externe-cfa-de-luniversite-chouaib-doukkali
END:VEVENT
BEGIN:VEVENT
DTSTART;VALUE=DATE:20240225
DTEND;VALUE=DATE:20240301
DTSTAMP:20260421T152323
CREATED:20231004T085645Z
LAST-MODIFIED:20240305T090908Z
UID:1187-1708819200-1709251199@icfal.uh1.ac.ma
SUMMARY:Rencontre HCERES à Paris  -  thème retenu : Elaboration des principes de l'évaluation et référentiel évaluation des CFA.
DESCRIPTION:Programme  de la Rencontre HCERES à Paris sera programmée du 25 au 29 Février 2024\nthème retenu :\nElaboration des principes de l’évaluation et référentiel évaluation des CFA.
URL:https://icfal.uh1.ac.ma/?tribe_events=rencontre-hceres-a-paris-theme-retenu-elaboration-des-principes-de-levaluation-et-referentiel-evaluation-des-cfa
LOCATION:Paris\, France
ATTACH;FMTTYPE=image/jpeg:https://icfal.uh1.ac.ma/wp-content/uploads/2023/10/Rencontre-HCERES.jpeg
END:VEVENT
BEGIN:VEVENT
DTSTART;VALUE=DATE:20231112
DTEND;VALUE=DATE:20231116
DTSTAMP:20260421T152323
CREATED:20231122T092438Z
LAST-MODIFIED:20231122T092438Z
UID:1196-1699747200-1700092799@icfal.uh1.ac.ma
SUMMARY:Rencontre restitution des travaux de fin de la formation  dans le cadre de la formation des formateurs ICFAL
DESCRIPTION:Rencontre restitution des travaux de fin de la formation  dans le cadre de la formation des formateurs ICFAL\n                                                          Du 12 au 15 Novembre 2023\n                                                    Université Hassan Premier de Settat
URL:https://icfal.uh1.ac.ma/?tribe_events=rencontre-restitution-des-travaux-de-fin-de-la-formation-dans-le-cadre-de-la-formation-des-formateurs-icfal
LOCATION:Settat\, Morocco
ATTACH;FMTTYPE=image/jpeg:https://icfal.uh1.ac.ma/wp-content/uploads/2023/11/401606177_817039663553678_5219229076087099926_n.jpg
END:VEVENT
BEGIN:VEVENT
DTSTART;VALUE=DATE:20231112
DTEND;VALUE=DATE:20231116
DTSTAMP:20260421T152323
CREATED:20231004T085159Z
LAST-MODIFIED:20231004T090444Z
UID:1184-1699747200-1700092799@icfal.uh1.ac.ma
SUMMARY:Rencontre restitution des PFE - Projet Erasmus+ ICFAL
DESCRIPTION:
URL:https://icfal.uh1.ac.ma/?tribe_events=rencontre-restitution-des-pfe-projet-erasmus-icfal
LOCATION:Settat\, Morocco
END:VEVENT
BEGIN:VEVENT
DTSTART;VALUE=DATE:20230411
DTEND;VALUE=DATE:20230416
DTSTAMP:20260421T152323
CREATED:20221128T143116Z
LAST-MODIFIED:20221128T143220Z
UID:975-1681171200-1681603199@icfal.uh1.ac.ma
SUMMARY:Job-Shadowing \, Du 11 au 15 Avril 2023 FormaSup & Université Jean Moulin Lyon3
DESCRIPTION:
URL:https://icfal.uh1.ac.ma/?tribe_events=job-shadowing
END:VEVENT
BEGIN:VEVENT
DTSTART;VALUE=DATE:20230315
DTEND;VALUE=DATE:20230320
DTSTAMP:20260421T152323
CREATED:20221128T142535Z
LAST-MODIFIED:20221128T142535Z
UID:972-1678838400-1679270399@icfal.uh1.ac.ma
SUMMARY:4ème Formation des Formateurs ICFAL
DESCRIPTION:
URL:https://icfal.uh1.ac.ma/?tribe_events=4eme-formation-des-formateurs-icfal
END:VEVENT
BEGIN:VEVENT
DTSTART;VALUE=DATE:20230131
DTEND;VALUE=DATE:20230205
DTSTAMP:20260421T152323
CREATED:20221128T143535Z
LAST-MODIFIED:20221128T143802Z
UID:980-1675123200-1675555199@icfal.uh1.ac.ma
SUMMARY:Job-Shadowing \, Du 31 Janvier au 04 Février 2022 - HENALLUX BELGIQUE
DESCRIPTION:
URL:https://icfal.uh1.ac.ma/?tribe_events=job-shadowing-du-31-janvier-au-04-fevrier-2022-henallux-belgique
END:VEVENT
BEGIN:VEVENT
DTSTART;TZID=Europe/Paris:20221109T080000
DTEND;TZID=Europe/Paris:20221113T170000
DTSTAMP:20260421T152323
CREATED:20220919T104731Z
LAST-MODIFIED:20220919T104731Z
UID:928-1667980800-1668358800@icfal.uh1.ac.ma
SUMMARY:Formation du projet Erasmus+ ICFAL
DESCRIPTION:
URL:https://icfal.uh1.ac.ma/?tribe_events=formation-du-projet-erasmus-icfal
END:VEVENT
BEGIN:VEVENT
DTSTART;TZID=Europe/Paris:20221004T080000
DTEND;TZID=Europe/Paris:20221007T170000
DTSTAMP:20260421T152323
CREATED:20220919T104516Z
LAST-MODIFIED:20220919T104516Z
UID:925-1664870400-1665162000@icfal.uh1.ac.ma
SUMMARY:Réunion de concentration et validation des livrables
DESCRIPTION:
URL:https://icfal.uh1.ac.ma/?tribe_events=reunion-de-concentration-et-validation-des-livrables
END:VEVENT
BEGIN:VEVENT
DTSTART;TZID=Europe/Paris:20220719T080000
DTEND;TZID=Europe/Paris:20220720T170000
DTSTAMP:20260421T152323
CREATED:20220713T092740Z
LAST-MODIFIED:20220713T092943Z
UID:915-1658217600-1658336400@icfal.uh1.ac.ma
SUMMARY:International Conference of the Educational System The Higher Educational System & Employability
DESCRIPTION:In collaboration with Erasmus+ Project ICFAL\, the Interdisciplinary Laboratory of Applied Science organizes the 2nd edition of the\nInternational Conference of the Educational System\nThe Higher Educational System & Employability\nProgramme
URL:https://icfal.uh1.ac.ma/?tribe_events=international-conference-of-the-educational-system-the-higher-educational-system-employability
ATTACH;FMTTYPE=image/png:https://icfal.uh1.ac.ma/wp-content/uploads/2022/07/Sans-titre.png
END:VEVENT
BEGIN:VEVENT
DTSTART;TZID=Europe/Paris:20220516T080000
DTEND;TZID=Europe/Paris:20220520T170000
DTSTAMP:20260421T152323
CREATED:20220404T112459Z
LAST-MODIFIED:20220523T092755Z
UID:839-1652688000-1653066000@icfal.uh1.ac.ma
SUMMARY:Formation des formateurs 2  ICFAL 16-20 Eljadida
DESCRIPTION:
URL:https://icfal.uh1.ac.ma/?tribe_events=formation-2-icfal-el-jadida
ATTACH;FMTTYPE=image/jpeg:https://icfal.uh1.ac.ma/wp-content/uploads/2022/04/WhatsApp-Image-2022-05-20-at-16.38.18.jpeg
END:VEVENT
BEGIN:VEVENT
DTSTART;TZID=Europe/Paris:20220503T080000
DTEND;TZID=Europe/Paris:20220503T170000
DTSTAMP:20260421T152323
CREATED:20220404T112237Z
LAST-MODIFIED:20220404T112237Z
UID:837-1651564800-1651597200@icfal.uh1.ac.ma
SUMMARY:Réunion de comité de pilotage
DESCRIPTION:
URL:https://icfal.uh1.ac.ma/?tribe_events=reunion-de-comite-de-pilotage
END:VEVENT
BEGIN:VEVENT
DTSTART;TZID=Europe/Paris:20220429T080000
DTEND;TZID=Europe/Paris:20220429T170000
DTSTAMP:20260421T152323
CREATED:20220404T112135Z
LAST-MODIFIED:20220404T112135Z
UID:835-1651219200-1651251600@icfal.uh1.ac.ma
SUMMARY:Ouverture des plis marché du matériel
DESCRIPTION:
URL:https://icfal.uh1.ac.ma/?tribe_events=ouverture-des-plis-marche-du-materiel
END:VEVENT
BEGIN:VEVENT
DTSTART;TZID=Europe/Paris:20220405T080000
DTEND;TZID=Europe/Paris:20220405T170000
DTSTAMP:20260421T152323
CREATED:20220404T111638Z
LAST-MODIFIED:20220404T111638Z
UID:833-1649145600-1649178000@icfal.uh1.ac.ma
SUMMARY:Réunion organisation de la formation El Jadida \, en ligne
DESCRIPTION:
URL:https://icfal.uh1.ac.ma/?tribe_events=reunion-organisation-de-la-formation-el-jadida-en-ligne
END:VEVENT
BEGIN:VEVENT
DTSTART;TZID=Europe/Paris:20220325T080000
DTEND;TZID=Europe/Paris:20220325T170000
DTSTAMP:20260421T152323
CREATED:20220329T153408Z
LAST-MODIFIED:20220329T154951Z
UID:780-1648195200-1648227600@icfal.uh1.ac.ma
SUMMARY:Signature convention alternance notariat Marrakech 25 mars 2022
DESCRIPTION:
URL:https://icfal.uh1.ac.ma/?tribe_events=signature-convention-alternance-notariat-marrakech-25-mars-2022
ATTACH;FMTTYPE=image/jpeg:https://icfal.uh1.ac.ma/wp-content/uploads/2022/03/WhatsApp-Image-2022-03-27-at-07.57.02.jpeg
END:VEVENT
BEGIN:VEVENT
DTSTART;TZID=Europe/Paris:20220314T080000
DTEND;TZID=Europe/Paris:20220316T170000
DTSTAMP:20260421T152323
CREATED:20220312T123224Z
LAST-MODIFIED:20220312T123224Z
UID:711-1647244800-1647450000@icfal.uh1.ac.ma
SUMMARY:Echange d’expériences et partage de bonnes pratiques sur l’alternance  France – Portugal – Maroc - Belgique
DESCRIPTION:Echange d’expériences et partage de bonnes pratiques sur l’alternance \nFrance – Portugal – Maroc – Belgique \nInstitutionnalisation des Centres de Formation par Alternance \nau sein des Universités Marocaines\n618683-EPP-1-2020-1-MA-EPPKA2-CBHE-JP
URL:https://icfal.uh1.ac.ma/?tribe_events=echange-dexperiences-et-partage-de-bonnes-pratiques-sur-lalternance-france-portugal-maroc-belgique
END:VEVENT
BEGIN:VEVENT
DTSTART;TZID=Europe/Paris:20220218T080000
DTEND;TZID=Europe/Paris:20220219T170000
DTSTAMP:20260421T152323
CREATED:20220217T090716Z
LAST-MODIFIED:20220217T090716Z
UID:691-1645171200-1645290000@icfal.uh1.ac.ma
SUMMARY:Rencontre ICFAL USMBA Fes
DESCRIPTION:Rencontre ICFAL USMBA Fes \n18-19 Février2022 \nÉcole Supérieure de technologie
URL:https://icfal.uh1.ac.ma/?tribe_events=rencontre-icfal-usmba-fes
END:VEVENT
BEGIN:VEVENT
DTSTART;TZID=Europe/Paris:20220203T080000
DTEND;TZID=Europe/Paris:20220203T170000
DTSTAMP:20260421T152323
CREATED:20220217T094113Z
LAST-MODIFIED:20220217T094113Z
UID:697-1643875200-1643907600@icfal.uh1.ac.ma
SUMMARY:Réunion avec Belgique: Organisation rencontre Mars
DESCRIPTION:
URL:https://icfal.uh1.ac.ma/?tribe_events=reunion-avec-belgique-organisation-rencontre-mars
ATTACH;FMTTYPE=image/jpeg:https://icfal.uh1.ac.ma/wp-content/uploads/2022/02/382b85c9-c044-49d5-8cda-c06aa5d1a92e.jpg
END:VEVENT
BEGIN:VEVENT
DTSTART;TZID=Europe/Paris:20220117T080000
DTEND;TZID=Europe/Paris:20220118T170000
DTSTAMP:20260421T152323
CREATED:20220217T092002Z
LAST-MODIFIED:20220217T092002Z
UID:693-1642406400-1642525200@icfal.uh1.ac.ma
SUMMARY:Réunion du top management et comité de pilotage
DESCRIPTION:Réunion du top management\, à l’Université Sultan Moulay Slimane  Beni mellal \n 
URL:https://icfal.uh1.ac.ma/?tribe_events=reunion-du-top-management-et-comite-de-pilotage
ATTACH;FMTTYPE=image/png:https://icfal.uh1.ac.ma/wp-content/uploads/2022/02/Top-management-ICFAL.png
END:VEVENT
BEGIN:VEVENT
DTSTART;TZID=Europe/Paris:20211203T143000
DTEND;TZID=Europe/Paris:20211203T170000
DTSTAMP:20260421T152323
CREATED:20211224T105701Z
LAST-MODIFIED:20211224T105701Z
UID:538-1638541800-1638550800@icfal.uh1.ac.ma
SUMMARY:Réunion en ligne ICFAL FORMASUP
DESCRIPTION:
URL:https://icfal.uh1.ac.ma/?tribe_events=reunion-en-ligne-icfal-formasup
END:VEVENT
BEGIN:VEVENT
DTSTART;TZID=Europe/Paris:20211201T100000
DTEND;TZID=Europe/Paris:20211201T120000
DTSTAMP:20260421T152323
CREATED:20211206T100950Z
LAST-MODIFIED:20211208T110520Z
UID:374-1638352800-1638360000@icfal.uh1.ac.ma
SUMMARY:Réunion de coordination -Projet Erasmus+ ICFAL
DESCRIPTION:
URL:https://icfal.uh1.ac.ma/?tribe_events=reunion-de-coordination-projet-erasmus-icfal
ATTACH;FMTTYPE=image/jpeg:https://icfal.uh1.ac.ma/wp-content/uploads/2021/12/WhatsApp-Image-2021-12-07-at-12.44.09.jpeg
END:VEVENT
BEGIN:VEVENT
DTSTART;TZID=Europe/Paris:20211111T080000
DTEND;TZID=Europe/Paris:20211111T170000
DTSTAMP:20260421T152323
CREATED:20211224T120541Z
LAST-MODIFIED:20211224T120541Z
UID:551-1636617600-1636650000@icfal.uh1.ac.ma
SUMMARY:Réunion validation statut de l'étudiant alternant
DESCRIPTION:à l’Université Hassan Premier
URL:https://icfal.uh1.ac.ma/?tribe_events=reunion-validation-statut-de-letudiant-alternant
ATTACH;FMTTYPE=image/jpeg:https://icfal.uh1.ac.ma/wp-content/uploads/2021/12/IMG_20211111_110235-scaled.jpg
END:VEVENT
BEGIN:VEVENT
DTSTART;TZID=Europe/Paris:20211024T080000
DTEND;TZID=Europe/Paris:20211028T170000
DTSTAMP:20260421T152323
CREATED:20210913T095704Z
LAST-MODIFIED:20211028T104710Z
UID:212-1635062400-1635440400@icfal.uh1.ac.ma
SUMMARY:Rencontre du projet ICFAL: Atelier de travail du 24 au 28 Octobre 2021
DESCRIPTION:Rencontre du projet ICFAL  \nAtelier de travail du 24 au 28 Octobre 2021  \nA l’Université Jean Moulin Lyon 3 et FormaSup AinRhone Loire\, France
URL:https://icfal.uh1.ac.ma/?tribe_events=rencontre-du-projet-icfal-atelier-de-travail-du-24-au-28-octobre-2021
LOCATION:69372 CEDEX 08\, 1C Av. des Frères Lumière\, 69008 Lyon\, France\, Lyon\, France
ATTACH;FMTTYPE=image/jpeg:https://icfal.uh1.ac.ma/wp-content/uploads/2021/09/WhatsApp-Image-2021-10-26-at-17.09.16.jpeg
END:VEVENT
BEGIN:VEVENT
DTSTART;TZID=Europe/Paris:20210708T080000
DTEND;TZID=Europe/Paris:20210708T170000
DTSTAMP:20260421T152323
CREATED:20211223T090810Z
LAST-MODIFIED:20211223T090810Z
UID:512-1625731200-1625763600@icfal.uh1.ac.ma
SUMMARY:Cluster Meeting des Projets Erasmus+ de Renforcement des Capacités
DESCRIPTION:
URL:https://icfal.uh1.ac.ma/?tribe_events=cluster-meeting-des-projets-erasmus-de-renforcement-des-capacites
END:VEVENT
END:VCALENDAR